BEGIN:VCALENDAR
VERSION:2.0
PRODID:-//Home Sweet Home PHL - ECPv6.15.20//NONSGML v1.0//EN
CALSCALE:GREGORIAN
METHOD:PUBLISH
X-WR-CALNAME:Home Sweet Home PHL
X-ORIGINAL-URL:https://homesweethomephl.com
X-WR-CALDESC:Events for Home Sweet Home PHL
REFRESH-INTERVAL;VALUE=DURATION:PT1H
X-Robots-Tag:noindex
X-PUBLISHED-TTL:PT1H
BEGIN:VTIMEZONE
TZID:UTC
BEGIN:STANDARD
TZOFFSETFROM:+0000
TZOFFSETTO:+0000
TZNAME:UTC
DTSTART:20250101T000000
END:STANDARD
END:VTIMEZONE
BEGIN:VEVENT
DTSTART;TZID=UTC:20260519T180000
DTEND;TZID=UTC:20260519T193000
DTSTAMP:20260420T120925
CREATED:20251017T141951Z
LAST-MODIFIED:20251017T141951Z
UID:254323-1779213600-1779219000@homesweethomephl.com
SUMMARY:First Time Homebuyer Webinar - May 19th
DESCRIPTION:Many people are intimidated by the home buying process\, but we are looking forward to outlining all steps involved in this transaction so that you know exactly what to expect! Join Jen Benner and Jake Abramowitz\, Realtors of @homesweethomephl and KW Empower as well as Jeff Giglio of The Giglio Group at Cross Country Mortgage Group for a short presentation on how to purchase your first home. \nAt this event\, we will go over everything starting from the loan pre-approval process\, what to expect the day of settlement\, and everything in between. Then\, we will open up the floor to any questions you may have! Whether you’re looking to buy in Philadelphia or one of its surrounding suburbs\, we have you covered. \nThis will be a digital class hosted on Zoom and the admission link will be sent to registrants the day of the event!
URL:https://homesweethomephl.com/event/first-time-homebuyer-webinar-may-19th/
END:VEVENT
BEGIN:VEVENT
DTSTART;TZID=UTC:20260901T180000
DTEND;TZID=UTC:20260901T193000
DTSTAMP:20260420T120925
CREATED:20251017T142132Z
LAST-MODIFIED:20251017T142132Z
UID:254325-1788285600-1788291000@homesweethomephl.com
SUMMARY:First Time Homebuyer Webinar - Sept 1st
DESCRIPTION:Many people are intimidated by the home buying process\, but we are looking forward to outlining all steps involved in this transaction so that you know exactly what to expect! Join Jen Benner and Jake Abramowitz\, Realtors of @homesweethomephl and KW Empower as well as Jeff Giglio of The Giglio Group at Cross Country Mortgage Group for a short presentation on how to purchase your first home. \nAt this event\, we will go over everything starting from the loan pre-approval process\, what to expect the day of settlement\, and everything in between. Then\, we will open up the floor to any questions you may have! Whether you’re looking to buy in Philadelphia or one of its surrounding suburbs\, we have you covered. \nThis will be a digital class hosted on Zoom and the admission link will be sent to registrants the day of the event!
URL:https://homesweethomephl.com/event/first-time-homebuyer-webinar-sept-1st/
END:VEVENT
BEGIN:VEVENT
DTSTART;TZID=UTC:20261208T180000
DTEND;TZID=UTC:20261208T193000
DTSTAMP:20260420T120925
CREATED:20251017T142256Z
LAST-MODIFIED:20251017T142256Z
UID:254327-1796752800-1796758200@homesweethomephl.com
SUMMARY:First Time Homebuyer Webinar - Dec 8th\, 2026
DESCRIPTION:Many people are intimidated by the home buying process\, but we are looking forward to outlining all steps involved in this transaction so that you know exactly what to expect! Join Jen Benner and Jake Abramowitz\, Realtors of @homesweethomephl and KW Empower as well as Jeff Giglio of The Giglio Group at Cross Country Mortgage Group for a short presentation on how to purchase your first home. \nAt this event\, we will go over everything starting from the loan pre-approval process\, what to expect the day of settlement\, and everything in between. Then\, we will open up the floor to any questions you may have! Whether you’re looking to buy in Philadelphia or one of its surrounding suburbs\, we have you covered. \nThis will be a digital class hosted on Zoom and the admission link will be sent to registrants the day of the event!
URL:https://homesweethomephl.com/event/first-time-homebuyer-webinar-dec-8th-2026/
END:VEVENT
END:VCALENDAR